{
 "currentVersion": 11.2,
 "serviceDescription": "bantargebang",
 "name": "bantargebang",
 "description": "",
 "extent": {
  "xmin": 723355.1053500001,
  "ymin": 9297285.92383,
  "xmax": 724153.7122500001,
  "ymax": 9297976.48573,
  "spatialReference": {
   "wkid": 32748,
   "latestWkid": 32748
  }
 },
 "initialExtent": {
  "xmin": 723355.1053500001,
  "ymin": 9297285.92383,
  "xmax": 724153.7122500001,
  "ymax": 9297976.48573,
  "spatialReference": {
   "wkid": 32748,
   "latestWkid": 32748
  }
 },
 "fullExtent": {
  "xmin": 723355.1053500001,
  "ymin": 9297285.92383,
  "xmax": 724153.7122500001,
  "ymax": 9297976.48573,
  "spatialReference": {
   "wkid": 32748,
   "latestWkid": 32748
  }
 },
 "sortableFields": "",
 "bandCount": 4,
 "pixelType": "U8",
 "minValues": [],
 "maxValues": [],
 "meanValues": [],
 "stdvValues": [],
 "hasMultidimensions": false,
 "pixelSizeX": 0.03430000000000057,
 "pixelSizeY": 0.03429999999995811,
 "meanPixelSize": 0.03429999999997934,
 "datasetFormat": "TIFF",
 "uncompressedSize": 1875026556,
 "blockWidth": 23283,
 "blockHeight": 1,
 "compressionType": "LZW",
 "bandNames": [
  "Band_1",
  "Band_2",
  "Band_3",
  "Band_4"
 ],
 "allowCopy": true,
 "allowAnalysis": true,
 "itemAccess": false,
 "inspectionCapabilities": "",
 "noDataValue": -10000,
 "noDataValues": [
  -10000,
  -10000,
  -10000,
  -10000
 ],
 "minPixelSize": 0,
 "maxPixelSize": 0,
 "copyrightText": "",
 "serviceDataType": "esriImageServiceDataTypeGeneric",
 "serviceSourceType": "esriImageServiceSourceTypeDataset",
 "objectIdField": "",
 "fields": [],
 "capabilities": "Mensuration,Image,Metadata",
 "defaultMosaicMethod": "Center",
 "allowedMosaicMethods": "",
 "sortField": "",
 "sortValue": null,
 "sortAscending": true,
 "mosaicOperator": "First",
 "defaultCompressionQuality": 75,
 "defaultResamplingMethod": "Bilinear",
 "maxImageHeight": 4100,
 "maxImageWidth": 15000,
 "allowRasterFunction": true,
 "rasterFunctionInfos": [
  {
   "name": "None",
   "description": "",
   "help": ""
  }
 ],
 "rasterTypeInfos": [
  {
   "name": "Raster Dataset",
   "description": "Supports all ArcGIS Raster Datasets",
   "help": ""
  }
 ],
 "mensurationCapabilities": "Basic",
 "hasHistograms": false,
 "hasColormap": false,
 "hasRasterAttributeTable": false,
 "minScale": 0,
 "maxScale": 0,
 "exportTilesAllowed": false,
 "supportsStatistics": false,
 "supportsAdvancedQueries": false,
 "editFieldsInfo": null,
 "ownershipBasedAccessControlForRasters": null,
 "allowComputeTiePoints": false,
 "useStandardizedQueries": true,
 "advancedQueryCapabilities": {
  "useStandardizedQueries": true,
  "supportsStatistics": false,
  "supportsOrderBy": false,
  "supportsDistinct": false,
  "supportsPagination": false
 },
 "spatialReference": {
  "wkid": 32748,
  "latestWkid": 32748
 },
 "resampling": false
}
