View In:
ArcGIS JavaScript
ArcGIS Online Map Viewer
ArcGIS Earth
Service Description: JI_Expo_0_0_RGB_Projected_tif
Name: JI_Expo_0_0_RGB_Projected_tif
Description:
Single Fused Map Cache: false
Extent:
XMin: 1.1893274560902487E7
YMin: -685502.2608036775
XMax: 1.189400193118691E7
YMax: -684770.0274896553
Spatial Reference: 102100
(3857)
LatestVCSWkid(0)
Initial Extent:
XMin: 1.1893274560902487E7
YMin: -685502.2608036775
XMax: 1.189400193118691E7
YMax: -684770.0274896553
Spatial Reference: 102100
(3857)
LatestVCSWkid(0)
Full Extent:
XMin: 1.1893274560902487E7
YMin: -685502.2608036775
XMax: 1.189400193118691E7
YMax: -684770.0274896553
Spatial Reference: 102100
(3857)
LatestVCSWkid(0)
Pixel Size X: 0.03473592571266629
Pixel Size Y: 0.03473592571262756
Band Count: 3
Pixel Type: U8
RasterFunction Infos: {"rasterFunctionInfos": [{
"name": "None",
"description": "",
"help": ""
}]}
Mensuration Capabilities: Basic
Inspection Capabilities:
Has Histograms: true
Has Colormap: false
Has Multi Dimensions : false
Rendering Rule:
Min Scale: 0
Max Scale: 0
Resampling: false
Copyright Text:
Service Data Type: esriImageServiceDataTypeRGB
Min Values: 0, 0, 0
Max Values: 255, 255, 255
Mean Values: 177.79096874778, 179.09799789417, 175.40852106594
Standard Deviation Values: 88.261078788645, 86.164392186404, 90.695200286384
Object ID Field:
Fields:
None
Default Mosaic Method: Center
Allowed Mosaic Methods:
SortField:
SortValue: null
Mosaic Operator: First
Default Compression Quality: 75
Default Resampling Method: Bilinear
Max Record Count: null
Max Image Height: 22000
Max Image Width: 22000
Max Download Image Count: null
Max Mosaic Image Count: null
Allow Raster Function: true
Allow Copy: true
Allow Analysis: true
Allow Compute TiePoints: false
Supports Statistics: false
Supports Advanced Queries: false
Use StandardizedQueries: true
Raster Type Infos:
Name: Raster Dataset
Description: Supports all ArcGIS Raster Datasets
Help:
Has Raster Attribute Table: false
Edit Fields Info: null
Ownership Based AccessControl For Rasters: null
Child Resources:
Info
Histograms
Statistics
Key Properties
Legend
Raster Function Infos
Supported Operations:
Export Image
Identify
Measure
Compute Histograms
Compute Statistics Histograms
Get Samples
Compute Class Statistics
Query Boundary
Compute Pixel Location
Compute Angles
Validate
Project