View In:
ArcGIS JavaScript
ArcGIS Online Map Viewer
ArcGIS Earth
Service Description: kkp/Batnas_2
Name: kkp/Batnas_2
Description:
Single Fused Map Cache: false
Extent:
XMin: 105.000000033
YMin: -9.999999933
XMax: 109.998333344
YMax: -5.001666622000004
Spatial Reference: 4326
(4326)
LatestVCSWkid(0)
Initial Extent:
XMin: 105.000000033
YMin: -9.999999933
XMax: 109.998333344
YMax: -5.001666622000004
Spatial Reference: 4326
(4326)
LatestVCSWkid(0)
Full Extent:
XMin: 105.000000033
YMin: -9.999999933
XMax: 109.998333344
YMax: -5.001666622000004
Spatial Reference: 4326
(4326)
LatestVCSWkid(0)
Pixel Size X: 0.0016666666592197387
Pixel Size Y: 0.0016666666592197387
Band Count: 1
Pixel Type: F32
RasterFunction Infos: {"rasterFunctionInfos": [{
"name": "None",
"description": "",
"help": ""
}]}
Mensuration Capabilities: Basic
Inspection Capabilities:
Has Histograms: true
Has Colormap: false
Has Multi Dimensions : false
Rendering Rule:
Min Scale: 0
Max Scale: 0
Copyright Text:
Service Data Type: esriImageServiceDataTypeGeneric
Min Values: -7322.12939453125
Max Values: 247.89874267578125
Mean Values: -2157.4996927314005
Standard Deviation Values: 2090.0739500655445
Object ID Field:
Fields:
None
Default Mosaic Method: Center
Allowed Mosaic Methods:
SortField:
SortValue: null
Mosaic Operator: First
Default Compression Quality: 75
Default Resampling Method: Bilinear
Max Record Count: null
Max Image Height: 4100
Max Image Width: 15000
Max Download Image Count: null
Max Mosaic Image Count: null
Allow Raster Function: true
Allow Copy: true
Allow Analysis: true
Allow Compute TiePoints: false
Supports Statistics: false
Supports Advanced Queries: false
Use StandardizedQueries: true
Raster Type Infos:
Name: Raster Dataset
Description: Supports all ArcGIS Raster Datasets
Help:
Has Raster Attribute Table: false
Edit Fields Info: null
Ownership Based AccessControl For Rasters: null
Child Resources:
Info
Histograms
Statistics
Key Properties
Legend
Raster Function Infos
Supported Operations:
Export Image
Identify
Measure
Compute Histograms
Compute Statistics Histograms
Get Samples
Compute Class Statistics
Query Boundary
Compute Pixel Location
Compute Angles
Validate
Project