View In:
ArcGIS JavaScript
ArcGIS Online Map Viewer
ArcGIS Earth
Service Description: bantargebang
Name: bantargebang
Description:
Single Fused Map Cache: false
Extent:
XMin: 723355.1053500001
YMin: 9297285.92383
XMax: 724153.7122500001
YMax: 9297976.48573
Spatial Reference: 32748
(32748)
LatestVCSWkid(0)
Initial Extent:
XMin: 723355.1053500001
YMin: 9297285.92383
XMax: 724153.7122500001
YMax: 9297976.48573
Spatial Reference: 32748
(32748)
LatestVCSWkid(0)
Full Extent:
XMin: 723355.1053500001
YMin: 9297285.92383
XMax: 724153.7122500001
YMax: 9297976.48573
Spatial Reference: 32748
(32748)
LatestVCSWkid(0)
Pixel Size X: 0.03430000000000057
Pixel Size Y: 0.03429999999995811
Band Count: 4
Pixel Type: U8
RasterFunction Infos: {"rasterFunctionInfos": [{
"name": "None",
"description": "",
"help": ""
}]}
Mensuration Capabilities: Basic
Inspection Capabilities:
Has Histograms: false
Has Colormap: false
Has Multi Dimensions : false
Rendering Rule:
Min Scale: 0
Max Scale: 0
Resampling: false
Copyright Text:
Service Data Type: esriImageServiceDataTypeGeneric
Min Values: N/A
Max Values: N/A
Mean Values: N/A
Standard Deviation Values: N/A
Object ID Field:
Fields:
None
Default Mosaic Method: Center
Allowed Mosaic Methods:
SortField:
SortValue: null
Mosaic Operator: First
Default Compression Quality: 75
Default Resampling Method: Bilinear
Max Record Count: null
Max Image Height: 4100
Max Image Width: 15000
Max Download Image Count: null
Max Mosaic Image Count: null
Allow Raster Function: true
Allow Copy: true
Allow Analysis: true
Allow Compute TiePoints: false
Supports Statistics: false
Supports Advanced Queries: false
Use StandardizedQueries: true
Raster Type Infos:
Name: Raster Dataset
Description: Supports all ArcGIS Raster Datasets
Help:
Has Raster Attribute Table: false
Edit Fields Info: null
Ownership Based AccessControl For Rasters: null
Child Resources:
Info
Statistics
Key Properties
Legend
Raster Function Infos
Supported Operations:
Export Image
Identify
Measure
Compute Histograms
Compute Statistics Histograms
Get Samples
Compute Class Statistics
Query Boundary
Compute Pixel Location
Compute Angles
Validate
Project